BEGIN:VCALENDAR
VERSION:2.0
PRODID:-//rish.de - Rudern in Schleswig-Holstein - ECPv6.15.20//NONSGML v1.0//EN
CALSCALE:GREGORIAN
METHOD:PUBLISH
X-ORIGINAL-URL:https://www.rish.de
X-WR-CALDESC:Veranstaltungen für rish.de - Rudern in Schleswig-Holstein
REFRESH-INTERVAL;VALUE=DURATION:PT1H
X-Robots-Tag:noindex
X-PUBLISHED-TTL:PT1H
BEGIN:VTIMEZONE
TZID:Europe/Berlin
BEGIN:DAYLIGHT
TZOFFSETFROM:+0100
TZOFFSETTO:+0200
TZNAME:CEST
DTSTART:20250330T010000
END:DAYLIGHT
BEGIN:STANDARD
TZOFFSETFROM:+0200
TZOFFSETTO:+0100
TZNAME:CET
DTSTART:20251026T010000
END:STANDARD
BEGIN:DAYLIGHT
TZOFFSETFROM:+0100
TZOFFSETTO:+0200
TZNAME:CEST
DTSTART:20260329T010000
END:DAYLIGHT
BEGIN:STANDARD
TZOFFSETFROM:+0200
TZOFFSETTO:+0100
TZNAME:CET
DTSTART:20261025T010000
END:STANDARD
BEGIN:DAYLIGHT
TZOFFSETFROM:+0100
TZOFFSETTO:+0200
TZNAME:CEST
DTSTART:20270328T010000
END:DAYLIGHT
BEGIN:STANDARD
TZOFFSETFROM:+0200
TZOFFSETTO:+0100
TZNAME:CET
DTSTART:20271031T010000
END:STANDARD
END:VTIMEZONE
BEGIN:VEVENT
DTSTART;VALUE=DATE:20261114
DTEND;VALUE=DATE:20261115
DTSTAMP:20260420T043749
CREATED:20250210T161543Z
LAST-MODIFIED:20260306T080402Z
UID:21603-1794614400-1794700799@www.rish.de
SUMMARY:Quer durchs Land: Itzehoe
DESCRIPTION:Unter dem Motto „De koole Mors“ rudern wir gemeinsam von Itzehoe nach Wewelsfleth und zurück. In kehren wir wieder im Gasthof Lüders in Wewelsfleth ein und nehmen die traditionelle Kartoffelsuppe zu uns. Los geht es früh morgens (Zeit folgt) am Bootshaus des Itzehoer Ruderclub von 1966 e.V. (Anfahrt bis Malzmüllerwiesen\, kurzer Fußweg) \nInsbesondere im Unterlauf kann es zu Wellenbildung kommen. Die Tour findet bei (fast) jedem Wetter statt. Bitte passt Eure Kleidung an. Rettungswesten sind empfohlen aber keine Pflicht \nTeilnahmegebühr:  20 EUR für Essen und Getränke im Gasthof sowie Rollgeld. \nInformationen und Anmeldung\nBernd Wiggers\nTelefon: 04821 9575427\nE-Mail vorstand@itzehoer-Ruderclub.de \nItzehoer Ruderclub von 1966 e.V. \nMeldeschluss: 1. November 2026\n  \n  \n  \n  \n  \n  \n  \n 
URL:https://www.rish.de/event/quer-durchs-land-itzehoe-3/
LOCATION:Itzehoer Ruderclub von 1966 e. V.\, Breitenburger Straße 74\, Itzehoe\, 25524\, Deutschland
CATEGORIES:Freizeitsport,Quer durchs Land,Wanderfahrten
ATTACH;FMTTYPE=image/png:https://www.rish.de/news/wp-content/uploads/2026/01/rudern-quer-durchs-land-2026.png
END:VEVENT
END:VCALENDAR