BEGIN:VCALENDAR
VERSION:2.0
PRODID:-//rish.de - Rudern in Schleswig-Holstein - ECPv6.15.20//NONSGML v1.0//EN
CALSCALE:GREGORIAN
METHOD:PUBLISH
X-ORIGINAL-URL:https://www.rish.de
X-WR-CALDESC:Veranstaltungen für rish.de - Rudern in Schleswig-Holstein
REFRESH-INTERVAL;VALUE=DURATION:PT1H
X-Robots-Tag:noindex
X-PUBLISHED-TTL:PT1H
BEGIN:VTIMEZONE
TZID:Europe/Berlin
BEGIN:DAYLIGHT
TZOFFSETFROM:+0100
TZOFFSETTO:+0200
TZNAME:CEST
DTSTART:20210328T010000
END:DAYLIGHT
BEGIN:STANDARD
TZOFFSETFROM:+0200
TZOFFSETTO:+0100
TZNAME:CET
DTSTART:20211031T010000
END:STANDARD
BEGIN:DAYLIGHT
TZOFFSETFROM:+0100
TZOFFSETTO:+0200
TZNAME:CEST
DTSTART:20220327T010000
END:DAYLIGHT
BEGIN:STANDARD
TZOFFSETFROM:+0200
TZOFFSETTO:+0100
TZNAME:CET
DTSTART:20221030T010000
END:STANDARD
BEGIN:DAYLIGHT
TZOFFSETFROM:+0100
TZOFFSETTO:+0200
TZNAME:CEST
DTSTART:20230326T010000
END:DAYLIGHT
BEGIN:STANDARD
TZOFFSETFROM:+0200
TZOFFSETTO:+0100
TZNAME:CET
DTSTART:20231029T010000
END:STANDARD
END:VTIMEZONE
BEGIN:VEVENT
DTSTART;TZID=Europe/Berlin:20221214T180000
DTEND;TZID=Europe/Berlin:20221214T210000
DTSTAMP:20260421T154411
CREATED:20221108T073807Z
LAST-MODIFIED:20221108T073807Z
UID:19373-1671040800-1671051600@www.rish.de
SUMMARY:Fortbildung Kinderschutz
DESCRIPTION:Der Ruderverband Schleswig-Holstein lädt in Zusammenarbeit mit der Sportjugend Schleswig-Holstein zur Fortbildung zum Thema Kinderschutz ein. \nTermine: \n\nDienstag\, 29.11.2022 in Lübeck im Bootshaus der Lübecker RG\nMittwoch\, 14.12.2022 in Schleswig im Bootshaus des DRC Schleswig\n\nBeginn ist jeweils um 18:00 Uhr und es geht bis 21:00 Uhr \nInhalte: \n\nKinderrechte\nKindeswohlgefährdung\nSexualisierte Gewalt\nBetroffene\nTäter*innen und Strategien\nGefährdungspotenziale des Sports\nFallbeispiele\nPräventionsmaßnahmen\nVerdachtsfall\n\nBjörn Lötsch\, RVSH-Landestrainer \nDRV-Lizenz\nFür die Lizenzen von Trainer/-innen der ersten bis dritten Lizenzstufe werden 4 LE anerkannt. \nDownload\nAusschreibung (pdf) \nAnmeldung\nPer E-Mail bei: Björn Lötsch\, bjoernloetsch@gmx.de\nBitte Namen\, Verein und Ort angeben. Die Veranstaltung ist kostenlos.
URL:https://www.rish.de/event/fortbildung-kinderschutz-schleswig/
LOCATION:Domschulruderclub Schleswig e. V.\, Am Luisenbad 1b\, Schleswig\, 24837\, Deutschland
CATEGORIES:Lehrgänge
ATTACH;FMTTYPE=image/png:https://www.rish.de/news/wp-content/uploads/2022/11/aktiv-im-kinderschutz.png
END:VEVENT
END:VCALENDAR