BEGIN:VCALENDAR
VERSION:2.0
PRODID:-//rish.de - Rudern in Schleswig-Holstein - ECPv6.15.20//NONSGML v1.0//EN
CALSCALE:GREGORIAN
METHOD:PUBLISH
X-WR-CALNAME:rish.de - Rudern in Schleswig-Holstein
X-ORIGINAL-URL:https://www.rish.de
X-WR-CALDESC:Veranstaltungen für rish.de - Rudern in Schleswig-Holstein
REFRESH-INTERVAL;VALUE=DURATION:PT1H
X-Robots-Tag:noindex
X-PUBLISHED-TTL:PT1H
BEGIN:VTIMEZONE
TZID:Europe/Berlin
BEGIN:DAYLIGHT
TZOFFSETFROM:+0100
TZOFFSETTO:+0200
TZNAME:CEST
DTSTART:20250330T010000
END:DAYLIGHT
BEGIN:STANDARD
TZOFFSETFROM:+0200
TZOFFSETTO:+0100
TZNAME:CET
DTSTART:20251026T010000
END:STANDARD
BEGIN:DAYLIGHT
TZOFFSETFROM:+0100
TZOFFSETTO:+0200
TZNAME:CEST
DTSTART:20260329T010000
END:DAYLIGHT
BEGIN:STANDARD
TZOFFSETFROM:+0200
TZOFFSETTO:+0100
TZNAME:CET
DTSTART:20261025T010000
END:STANDARD
BEGIN:DAYLIGHT
TZOFFSETFROM:+0100
TZOFFSETTO:+0200
TZNAME:CEST
DTSTART:20270328T010000
END:DAYLIGHT
BEGIN:STANDARD
TZOFFSETFROM:+0200
TZOFFSETTO:+0100
TZNAME:CET
DTSTART:20271031T010000
END:STANDARD
END:VTIMEZONE
BEGIN:VEVENT
DTSTART;TZID=Europe/Berlin:20260423T140000
DTEND;TZID=Europe/Berlin:20260423T163000
DTSTAMP:20260423T123413
CREATED:20260303T140636Z
LAST-MODIFIED:20260303T140636Z
UID:22589-1776952800-1776961800@www.rish.de
SUMMARY:Protektorentreffen
DESCRIPTION:Einladung zur Dienstversammlung – Protektorentreffen/Netzwerktreffen Schulrudern\nSehr geehrte Kolleginnen und Kollegen\,\nliebe Protektorinnen und Protektoren\, \nhiermit lade ich Sie und euch herzlich zur Dienstversammlung im Rahmen des Protektorentreffens des Schülerruderns in Schleswig-Holstein ein. \nDatum: 23. April 2026\nUhrzeit: 14.00 Uhr\nOrt: Max-Planck-Schule Kiel\, Winterbeker Weg 1-4\, 24114 Kiel \nTagesordnung \n\nAllgemeiner Austausch – Bedürfnisse und Herausforderungen\nVorstellung der Riegenkonzepte an den Schulen mit Blick auf:\n◦ Kinder- und Jugendausbildung\n◦ Ausbildung von Schülertrainerinnen und Schülertrainern\n◦ Angebote und Events\n◦ Übergang in den Leistungssport\n◦ Finanzierung\nZusammenarbeit der Ruderriegen mit den örtlichen Vereinen\nKooperationen unter den Riegen in Schleswig-Holstein\nJugend trainiert für Olympia & Paralympics (JtfO) und Schülerregatta\nTalentschule\nLehrerausbildung im Rudern (IQSH und/oder RVSH)\n\nZiel der Dienstversammlung ist der kollegiale Austausch\, die Weiterentwicklung unserer schulischen Ruderarbeit sowie die Stärkung der landesweiten Zusammenarbeit. \nDie genannten schulischen Teilnehmenden können Reisekosten nach dem Bundesreisekostengesetz (BRKG) geltend machen. Die sachlich-richtig-Zeichnung (Bogen „Kostenrechnung“) liegt in der Regel bei derjenigen Person\, die die Dienstreisegenehmigung erteilt (Schulleitung). \nFür eine kurze Rückmeldung zur Teilnahme wäre ich dankbar. \nMit freundlichen Grüßen \nChristoph Claussen\nKreisschulsportbeauftragter Lübeck\nDisziplinkoordinator Rudern\nGeschwister-Prenski-Schule Lübeck\nchristoph.claussen@schule-sh.de
URL:https://www.rish.de/event/protektorentreffen/
LOCATION:Max-Planck-Schule Kiel\, Winterbeker Weg 1-4\, Kiel\, 24114\, Deutschland
CATEGORIES:Ruderjugend
END:VEVENT
END:VCALENDAR