BEGIN:VCALENDAR
VERSION:2.0
PRODID:-//rish.de - Rudern in Schleswig-Holstein - ECPv6.15.20//NONSGML v1.0//EN
CALSCALE:GREGORIAN
METHOD:PUBLISH
X-WR-CALNAME:rish.de - Rudern in Schleswig-Holstein
X-ORIGINAL-URL:https://www.rish.de
X-WR-CALDESC:Veranstaltungen für rish.de - Rudern in Schleswig-Holstein
REFRESH-INTERVAL;VALUE=DURATION:PT1H
X-Robots-Tag:noindex
X-PUBLISHED-TTL:PT1H
BEGIN:VTIMEZONE
TZID:Europe/Berlin
BEGIN:DAYLIGHT
TZOFFSETFROM:+0100
TZOFFSETTO:+0200
TZNAME:CEST
DTSTART:20250330T010000
END:DAYLIGHT
BEGIN:STANDARD
TZOFFSETFROM:+0200
TZOFFSETTO:+0100
TZNAME:CET
DTSTART:20251026T010000
END:STANDARD
BEGIN:DAYLIGHT
TZOFFSETFROM:+0100
TZOFFSETTO:+0200
TZNAME:CEST
DTSTART:20260329T010000
END:DAYLIGHT
BEGIN:STANDARD
TZOFFSETFROM:+0200
TZOFFSETTO:+0100
TZNAME:CET
DTSTART:20261025T010000
END:STANDARD
BEGIN:DAYLIGHT
TZOFFSETFROM:+0100
TZOFFSETTO:+0200
TZNAME:CEST
DTSTART:20270328T010000
END:DAYLIGHT
BEGIN:STANDARD
TZOFFSETFROM:+0200
TZOFFSETTO:+0100
TZNAME:CET
DTSTART:20271031T010000
END:STANDARD
END:VTIMEZONE
BEGIN:VEVENT
DTSTART;TZID=Europe/Berlin:20260419T100000
DTEND;TZID=Europe/Berlin:20260419T160000
DTSTAMP:20260419T202149
CREATED:20141126T092243Z
LAST-MODIFIED:20260111T094734Z
UID:7948-1776592800-1776614400@www.rish.de
SUMMARY:Schleswig-Holstein rudert
DESCRIPTION:Aktionstag Schleswig-Holstein rudert am 19. April 2026\nRudern – ein Sport für alle\nAuf zum Rudern! Am 19. April heißt es wieder „Schleswig-Holstein rudert“. Am traditionsreichen Aktionstag werden die Mitgliedsvereine des Ruderverbandes Schleswig-Holstein gemeinsam die neue Saison eröffnen und dabei allen Interessierten die Möglichkeit geben\, den Rudersport\, die Bootshäuser und die Menschen kennenzulernen. \nDer Ruderverband Schleswig-Holstein ist seit Jahren nicht nur im Leistungssport\, sondern auch im Freizeitsport und im Gesundheitssport in höchstem Maße engagiert und möchte mit seinen Vereinen neue Menschen für sich gewinnen: „Rudern ist gesund und wir möchten viele Menschen im Boot haben“\, berichtet Reinhart Grahn\, der Vorsitzende des Ruderverbandes Schleswig-Holstein. Zwischen 10 bis 16 Uhr sind die Bootshäuser der Rudervereine aus dem Land zwischen den Meeren für alle Interessierten geöffnet\, die eine besondere Sportart kennenlernen wollen. Erfahrene Ausbilder und Ansprechpartner stehen in den Bootshäusern bereit\, um Fragen der Gäste zu beantworten. Natürlich besteht auch die Möglichkeit\, im Boot oder auf dem Ruderergometer erste Erfahrungen zu sammeln. Berührungsängste sollten die Interessierten nicht haben\, denn Ruderer sind für ihre Geselligkeit und Gastfreundschaft bekannt. \nRudern ist ein Sport für alle. In den Kilometerlisten der Vereine tauchen häufig achtjährige Kinder neben neunzigjährigen Altersklassenruderern auf oder Freizeitsportler neben Nationalmannschaftsmitgliedern. Für alle Altersklassen gibt es Wettkampf- und Freizeitsport. „Zu den Wettkämpfen gehören internationale Titelkämpfe oder Olympische Spiele ebenso wie Regatten für Ruderer\, die zweimal pro Woche trainieren. Zum Freizeitsport zählt die gemütliche Ausfahrt am Sommerabend wie auch das Gesundheitsrudern\, das Wanderrudern\, der gemeinsame Familiensport oder auch der klassische Fitnesssport für jene Menschen\, die alle Muskelgruppen mit einer ganzheitlichen Bewegung in Form halten wollen“\, berichtet Reinhart Grahn. \nDie zentrale Auftaktveranstaltung wird in diesem Jahr bei der Friedrichstädter Rudergesellschaft stattfinden. \nDie Ruderinnen und Ruderer freuen sich auf viele neugierige Gäste. Herzlich willkommen in den Rudervereinen Schleswig-Holsteins! \nWeitere Informationen …
URL:https://www.rish.de/event/schleswig-holstein-rudert/
CATEGORIES:Freizeitsport,Verband
ATTACH;FMTTYPE=image/png:https://www.rish.de/news/wp-content/uploads/2026/01/schleswig-holstein-rudert-2026.png
END:VEVENT
END:VCALENDAR